BEGIN:VCALENDAR
VERSION:2.0
PRODID:-//Sabre//Sabre VObject 4.5.8//EN
CALSCALE:GREGORIAN
BEGIN:VEVENT
UID:sabre-vobject-c7b27674-981b-42c6-9cee-8d753a448d11
DTSTAMP:20260426T025254Z
SUMMARY:Annual SOS Event
DESCRIPTION:Our next in-person SOS Event for Gold Star Mother&#39\;s and Fa
 mily Day.&nbsp\;&nbsp\;\n
X-ALT-DESC:FMTTYPE=text/html:<!DOCTYPE HTML PUBLIC "-//W3C//DTD HTML 3.2//E
 N"><HTML><p>Our next in-person SOS Event for Gold Star Mother&#39\;s and F
 amily Day.&nbsp\;&nbsp\;</p>\n</HTML>
CREATED;TZID=America/New_York:20240905T162213
URL;VALUE=URI:https://detroit.armymwr.com/calendar/event
DTSTART;TZID=America/New_York:20240928T000000
DTEND;TZID=America/New_York:20240928T235959
SEQUENCE:0
END:VEVENT
END:VCALENDAR
