BEGIN:VCALENDAR
VERSION:2.0
PRODID:-//Sabre//Sabre VObject 4.5.8//EN
CALSCALE:GREGORIAN
BEGIN:VEVENT
UID:sabre-vobject-18911e77-5f2c-41e5-9a11-ef1146d1c893
DTSTAMP:20260421T041151Z
SUMMARY:Harry Potter Virtual Club
DESCRIPTION:Grades K-12\n\nHeld via ZOOM\n\nSeptember 16 &amp\; 30 - Order 
 of the Phoenix\n\nOctober 7 &amp\; 21 - Half-Blood Prince\n\nNovember 4 &a
 mp\; 18 - Deathly Hallows&nbsp\;\n\nDecember 2 - Final Club Meeting Party\
 n\nIs your youth a Harry Potter fan? Then this club is for them! We will b
 e reviewing one title a month (we started this back in January 2024 and to
 ok a break for the summer). Youth are encouraged to have read the books/wa
 tched the movies before the sessions. Crafts\, trivia\, and other fun acti
 vities planned each meeting! It&#39\;s never too late to join!!&nbsp\;\n
X-ALT-DESC:FMTTYPE=text/html:<!DOCTYPE HTML PUBLIC "-//W3C//DTD HTML 3.2//E
 N"><HTML><p>Grades K-12</p>\n\n<p>Held via ZOOM</p>\n\n<p>September 16 &am
 p\; 30 - Order of the Phoenix</p>\n\n<p>October 7 &amp\; 21 - Half-Blood P
 rince</p>\n\n<p>November 4 &amp\; 18 - Deathly Hallows&nbsp\;</p>\n\n<p>De
 cember 2 - Final Club Meeting Party</p>\n\n<p>Is your youth a Harry Potter
  fan? Then this club is for them! We will be reviewing one title a month (
 we started this back in January 2024 and took a break for the summer). You
 th are encouraged to have read the books/watched the movies before the ses
 sions. Crafts\, trivia\, and other fun activities planned each meeting! It
 &#39\;s never too late to join!!&nbsp\;</p>\n</HTML>
CREATED;TZID=America/New_York:20240903T125344
URL;VALUE=URI:https://detroit.armymwr.com/calendar/event
DTSTART;TZID=America/New_York:20240916T163000
DTEND;TZID=America/New_York:20240916T180000
SEQUENCE:0
END:VEVENT
BEGIN:VEVENT
UID:sabre-vobject-e61e43a8-2e40-4fe1-826c-27fc8396fb4b
DTSTAMP:20260421T041151Z
SUMMARY:Harry Potter Virtual Club
DESCRIPTION:Grades K-12\n\nHeld via ZOOM\n\nSeptember 16 &amp\; 30 - Order 
 of the Phoenix\n\nOctober 7 &amp\; 21 - Half-Blood Prince\n\nNovember 4 &a
 mp\; 18 - Deathly Hallows&nbsp\;\n\nDecember 2 - Final Club Meeting Party\
 n\nIs your youth a Harry Potter fan? Then this club is for them! We will b
 e reviewing one title a month (we started this back in January 2024 and to
 ok a break for the summer). Youth are encouraged to have read the books/wa
 tched the movies before the sessions. Crafts\, trivia\, and other fun acti
 vities planned each meeting! It&#39\;s never too late to join!!&nbsp\;\n
X-ALT-DESC:FMTTYPE=text/html:<!DOCTYPE HTML PUBLIC "-//W3C//DTD HTML 3.2//E
 N"><HTML><p>Grades K-12</p>\n\n<p>Held via ZOOM</p>\n\n<p>September 16 &am
 p\; 30 - Order of the Phoenix</p>\n\n<p>October 7 &amp\; 21 - Half-Blood P
 rince</p>\n\n<p>November 4 &amp\; 18 - Deathly Hallows&nbsp\;</p>\n\n<p>De
 cember 2 - Final Club Meeting Party</p>\n\n<p>Is your youth a Harry Potter
  fan? Then this club is for them! We will be reviewing one title a month (
 we started this back in January 2024 and took a break for the summer). You
 th are encouraged to have read the books/watched the movies before the ses
 sions. Crafts\, trivia\, and other fun activities planned each meeting! It
 &#39\;s never too late to join!!&nbsp\;</p>\n</HTML>
CREATED;TZID=America/New_York:20240903T125344
URL;VALUE=URI:https://detroit.armymwr.com/calendar/event
DTSTART;TZID=America/New_York:20240930T163000
DTEND;TZID=America/New_York:20240930T180000
SEQUENCE:1
END:VEVENT
BEGIN:VEVENT
UID:sabre-vobject-903c02e6-e149-4a97-a893-8b36f3772993
DTSTAMP:20260421T041151Z
SUMMARY:Harry Potter Virtual Club
DESCRIPTION:Grades K-12\n\nHeld via ZOOM\n\nSeptember 16 &amp\; 30 - Order 
 of the Phoenix\n\nOctober 7 &amp\; 21 - Half-Blood Prince\n\nNovember 4 &a
 mp\; 18 - Deathly Hallows&nbsp\;\n\nDecember 2 - Final Club Meeting Party\
 n\nIs your youth a Harry Potter fan? Then this club is for them! We will b
 e reviewing one title a month (we started this back in January 2024 and to
 ok a break for the summer). Youth are encouraged to have read the books/wa
 tched the movies before the sessions. Crafts\, trivia\, and other fun acti
 vities planned each meeting! It&#39\;s never too late to join!!&nbsp\;\n
X-ALT-DESC:FMTTYPE=text/html:<!DOCTYPE HTML PUBLIC "-//W3C//DTD HTML 3.2//E
 N"><HTML><p>Grades K-12</p>\n\n<p>Held via ZOOM</p>\n\n<p>September 16 &am
 p\; 30 - Order of the Phoenix</p>\n\n<p>October 7 &amp\; 21 - Half-Blood P
 rince</p>\n\n<p>November 4 &amp\; 18 - Deathly Hallows&nbsp\;</p>\n\n<p>De
 cember 2 - Final Club Meeting Party</p>\n\n<p>Is your youth a Harry Potter
  fan? Then this club is for them! We will be reviewing one title a month (
 we started this back in January 2024 and took a break for the summer). You
 th are encouraged to have read the books/watched the movies before the ses
 sions. Crafts\, trivia\, and other fun activities planned each meeting! It
 &#39\;s never too late to join!!&nbsp\;</p>\n</HTML>
CREATED;TZID=America/New_York:20240903T125344
URL;VALUE=URI:https://detroit.armymwr.com/calendar/event
DTSTART;TZID=America/New_York:20241007T163000
DTEND;TZID=America/New_York:20241007T180000
SEQUENCE:2
END:VEVENT
BEGIN:VEVENT
UID:sabre-vobject-a8f61a3c-f729-429c-9746-f0ede1704b16
DTSTAMP:20260421T041151Z
SUMMARY:Harry Potter Virtual Club
DESCRIPTION:Grades K-12\n\nHeld via ZOOM\n\nSeptember 16 &amp\; 30 - Order 
 of the Phoenix\n\nOctober 7 &amp\; 21 - Half-Blood Prince\n\nNovember 4 &a
 mp\; 18 - Deathly Hallows&nbsp\;\n\nDecember 2 - Final Club Meeting Party\
 n\nIs your youth a Harry Potter fan? Then this club is for them! We will b
 e reviewing one title a month (we started this back in January 2024 and to
 ok a break for the summer). Youth are encouraged to have read the books/wa
 tched the movies before the sessions. Crafts\, trivia\, and other fun acti
 vities planned each meeting! It&#39\;s never too late to join!!&nbsp\;\n
X-ALT-DESC:FMTTYPE=text/html:<!DOCTYPE HTML PUBLIC "-//W3C//DTD HTML 3.2//E
 N"><HTML><p>Grades K-12</p>\n\n<p>Held via ZOOM</p>\n\n<p>September 16 &am
 p\; 30 - Order of the Phoenix</p>\n\n<p>October 7 &amp\; 21 - Half-Blood P
 rince</p>\n\n<p>November 4 &amp\; 18 - Deathly Hallows&nbsp\;</p>\n\n<p>De
 cember 2 - Final Club Meeting Party</p>\n\n<p>Is your youth a Harry Potter
  fan? Then this club is for them! We will be reviewing one title a month (
 we started this back in January 2024 and took a break for the summer). You
 th are encouraged to have read the books/watched the movies before the ses
 sions. Crafts\, trivia\, and other fun activities planned each meeting! It
 &#39\;s never too late to join!!&nbsp\;</p>\n</HTML>
CREATED;TZID=America/New_York:20240903T125344
URL;VALUE=URI:https://detroit.armymwr.com/calendar/event
DTSTART;TZID=America/New_York:20241021T163000
DTEND;TZID=America/New_York:20241021T180000
SEQUENCE:3
END:VEVENT
BEGIN:VEVENT
UID:sabre-vobject-fd88a593-8399-4260-9275-6bb80804c049
DTSTAMP:20260421T041151Z
SUMMARY:Harry Potter Virtual Club
DESCRIPTION:Grades K-12\n\nHeld via ZOOM\n\nSeptember 16 &amp\; 30 - Order 
 of the Phoenix\n\nOctober 7 &amp\; 21 - Half-Blood Prince\n\nNovember 4 &a
 mp\; 18 - Deathly Hallows&nbsp\;\n\nDecember 2 - Final Club Meeting Party\
 n\nIs your youth a Harry Potter fan? Then this club is for them! We will b
 e reviewing one title a month (we started this back in January 2024 and to
 ok a break for the summer). Youth are encouraged to have read the books/wa
 tched the movies before the sessions. Crafts\, trivia\, and other fun acti
 vities planned each meeting! It&#39\;s never too late to join!!&nbsp\;\n
X-ALT-DESC:FMTTYPE=text/html:<!DOCTYPE HTML PUBLIC "-//W3C//DTD HTML 3.2//E
 N"><HTML><p>Grades K-12</p>\n\n<p>Held via ZOOM</p>\n\n<p>September 16 &am
 p\; 30 - Order of the Phoenix</p>\n\n<p>October 7 &amp\; 21 - Half-Blood P
 rince</p>\n\n<p>November 4 &amp\; 18 - Deathly Hallows&nbsp\;</p>\n\n<p>De
 cember 2 - Final Club Meeting Party</p>\n\n<p>Is your youth a Harry Potter
  fan? Then this club is for them! We will be reviewing one title a month (
 we started this back in January 2024 and took a break for the summer). You
 th are encouraged to have read the books/watched the movies before the ses
 sions. Crafts\, trivia\, and other fun activities planned each meeting! It
 &#39\;s never too late to join!!&nbsp\;</p>\n</HTML>
CREATED;TZID=America/New_York:20240903T125344
URL;VALUE=URI:https://detroit.armymwr.com/calendar/event
DTSTART;TZID=America/New_York:20241104T163000
DTEND;TZID=America/New_York:20241104T180000
SEQUENCE:4
END:VEVENT
BEGIN:VEVENT
UID:sabre-vobject-c43f28bf-efee-4f99-8a28-13ac83ff5966
DTSTAMP:20260421T041151Z
SUMMARY:Harry Potter Virtual Club
DESCRIPTION:Grades K-12\n\nHeld via ZOOM\n\nSeptember 16 &amp\; 30 - Order 
 of the Phoenix\n\nOctober 7 &amp\; 21 - Half-Blood Prince\n\nNovember 4 &a
 mp\; 18 - Deathly Hallows&nbsp\;\n\nDecember 2 - Final Club Meeting Party\
 n\nIs your youth a Harry Potter fan? Then this club is for them! We will b
 e reviewing one title a month (we started this back in January 2024 and to
 ok a break for the summer). Youth are encouraged to have read the books/wa
 tched the movies before the sessions. Crafts\, trivia\, and other fun acti
 vities planned each meeting! It&#39\;s never too late to join!!&nbsp\;\n
X-ALT-DESC:FMTTYPE=text/html:<!DOCTYPE HTML PUBLIC "-//W3C//DTD HTML 3.2//E
 N"><HTML><p>Grades K-12</p>\n\n<p>Held via ZOOM</p>\n\n<p>September 16 &am
 p\; 30 - Order of the Phoenix</p>\n\n<p>October 7 &amp\; 21 - Half-Blood P
 rince</p>\n\n<p>November 4 &amp\; 18 - Deathly Hallows&nbsp\;</p>\n\n<p>De
 cember 2 - Final Club Meeting Party</p>\n\n<p>Is your youth a Harry Potter
  fan? Then this club is for them! We will be reviewing one title a month (
 we started this back in January 2024 and took a break for the summer). You
 th are encouraged to have read the books/watched the movies before the ses
 sions. Crafts\, trivia\, and other fun activities planned each meeting! It
 &#39\;s never too late to join!!&nbsp\;</p>\n</HTML>
CREATED;TZID=America/New_York:20240903T125344
URL;VALUE=URI:https://detroit.armymwr.com/calendar/event
DTSTART;TZID=America/New_York:20241118T163000
DTEND;TZID=America/New_York:20241118T180000
SEQUENCE:5
END:VEVENT
BEGIN:VEVENT
UID:sabre-vobject-71344149-a134-441a-98c7-429561a08023
DTSTAMP:20260421T041151Z
SUMMARY:Harry Potter Virtual Club
DESCRIPTION:Grades K-12\n\nHeld via ZOOM\n\nSeptember 16 &amp\; 30 - Order 
 of the Phoenix\n\nOctober 7 &amp\; 21 - Half-Blood Prince\n\nNovember 4 &a
 mp\; 18 - Deathly Hallows&nbsp\;\n\nDecember 2 - Final Club Meeting Party\
 n\nIs your youth a Harry Potter fan? Then this club is for them! We will b
 e reviewing one title a month (we started this back in January 2024 and to
 ok a break for the summer). Youth are encouraged to have read the books/wa
 tched the movies before the sessions. Crafts\, trivia\, and other fun acti
 vities planned each meeting! It&#39\;s never too late to join!!&nbsp\;\n
X-ALT-DESC:FMTTYPE=text/html:<!DOCTYPE HTML PUBLIC "-//W3C//DTD HTML 3.2//E
 N"><HTML><p>Grades K-12</p>\n\n<p>Held via ZOOM</p>\n\n<p>September 16 &am
 p\; 30 - Order of the Phoenix</p>\n\n<p>October 7 &amp\; 21 - Half-Blood P
 rince</p>\n\n<p>November 4 &amp\; 18 - Deathly Hallows&nbsp\;</p>\n\n<p>De
 cember 2 - Final Club Meeting Party</p>\n\n<p>Is your youth a Harry Potter
  fan? Then this club is for them! We will be reviewing one title a month (
 we started this back in January 2024 and took a break for the summer). You
 th are encouraged to have read the books/watched the movies before the ses
 sions. Crafts\, trivia\, and other fun activities planned each meeting! It
 &#39\;s never too late to join!!&nbsp\;</p>\n</HTML>
CREATED;TZID=America/New_York:20240903T125344
URL;VALUE=URI:https://detroit.armymwr.com/calendar/event
DTSTART;TZID=America/New_York:20241202T163000
DTEND;TZID=America/New_York:20241202T180000
SEQUENCE:6
END:VEVENT
END:VCALENDAR
