BEGIN:VCALENDAR
VERSION:2.0
PRODID:-//Sabre//Sabre VObject 4.5.8//EN
CALSCALE:GREGORIAN
BEGIN:VEVENT
UID:sabre-vobject-a072dc35-0c79-44c9-82a1-ec4868ef9dad
DTSTAMP:20260420T114629Z
SUMMARY:Floor Hockey - Youth Sports and Fitness
DESCRIPTION:Youth will perform floor hockey warm-ups and passing drills whi
 le learning fundamental rules\, proper positions and stick handling. Each 
 session will end with a scrimmage game.\n\nAges 6-11 (grades 1-5)\n\nFull 
 details in Webtrac. No class 11/28.\n
X-ALT-DESC:FMTTYPE=text/html:<!DOCTYPE HTML PUBLIC "-//W3C//DTD HTML 3.2//E
 N"><HTML><p>Youth will perform floor hockey warm-ups and passing drills wh
 ile learning fundamental rules\, proper positions and stick handling. Each
  session will end with a scrimmage game.</p>\n\n<p>Ages 6-11 (grades 1-5)<
 /p>\n\n<p>Full details in Webtrac. No class 11/28.</p>\n</HTML>
CREATED;TZID=America/New_York:20240903T124355
URL;VALUE=URI:https://detroit.armymwr.com/calendar/event
DTSTART;TZID=America/New_York:20241107T173000
DTEND;TZID=America/New_York:20241107T183000
SEQUENCE:0
END:VEVENT
END:VCALENDAR
