BEGIN:VCALENDAR
VERSION:2.0
PRODID:-//Sabre//Sabre VObject 4.5.8//EN
CALSCALE:GREGORIAN
BEGIN:VEVENT
UID:sabre-vobject-0d560de9-b9a2-428a-84ed-26714be019f5
DTSTAMP:20260420T163940Z
SUMMARY:Family Cornhole League - Youth Sports and Fitness
DESCRIPTION:Families participating in this league will learn the rules\, im
 prove skills\, and get a little competitive in one of the world&rsquo\;s f
 astest growing sports&hellip\; Cornhole! Each team will consist of one you
 th and one adult. Register soon. Space is limited. Only 10 teams permitted
 . Prizes awarded at end of season.\n\nAges 7-18 (teams consist of 1 adult 
 and 1 youth)&nbsp\;\n\nSpaces limited!\n\nFull details online in Webtrac.\
 n
X-ALT-DESC:FMTTYPE=text/html:<!DOCTYPE HTML PUBLIC "-//W3C//DTD HTML 3.2//E
 N"><HTML><p>Families participating in this league will learn the rules\, i
 mprove skills\, and get a little competitive in one of the world&rsquo\;s 
 fastest growing sports&hellip\; Cornhole! Each team will consist of one yo
 uth and one adult. Register soon. Space is limited. Only 10 teams permitte
 d. Prizes awarded at end of season.</p>\n\n<p>Ages 7-18 (teams consist of 
 1 adult and 1 youth)&nbsp\;</p>\n\n<p><strong>Spaces limited!</strong></p>
 \n\n<p>Full details online in Webtrac.</p>\n</HTML>
CREATED;TZID=America/New_York:20240903T124416
URL;VALUE=URI:https://detroit.armymwr.com/calendar/event
DTSTART;TZID=America/New_York:20241105T173000
DTEND;TZID=America/New_York:20241105T183000
SEQUENCE:0
END:VEVENT
END:VCALENDAR
