BEGIN:VCALENDAR
VERSION:2.0
PRODID:-//Sabre//Sabre VObject 4.5.8//EN
CALSCALE:GREGORIAN
BEGIN:VEVENT
UID:sabre-vobject-9dc1eda1-2950-4076-a2f4-2e6941de2236
DTSTAMP:20260425T000514Z
SUMMARY:Archery - Youth Sports and Fitness
DESCRIPTION:Archery is a great way for youth to build strength and confiden
 ce\, as well as improve concentration and hand-eye coordination. Staff are
  4-H certified archery range master&rsquo\;s and will be teaching archery 
 basics such as safety\, equipment\, and technique. Each session will invol
 ve target and 3-D shooting.\n\nAges 7-18\n\nFull details online in Webtrac
 .\n
X-ALT-DESC:FMTTYPE=text/html:<!DOCTYPE HTML PUBLIC "-//W3C//DTD HTML 3.2//E
 N"><HTML><p>Archery is a great way for youth to build strength and confide
 nce\, as well as improve concentration and hand-eye coordination. Staff ar
 e 4-H certified archery range master&rsquo\;s and will be teaching archery
  basics such as safety\, equipment\, and technique. Each session will invo
 lve target and 3-D shooting.</p>\n\n<p>Ages 7-18</p>\n\n<p>Full details on
 line in Webtrac.</p>\n</HTML>
CREATED;TZID=America/New_York:20240903T110211
URL;VALUE=URI:https://detroit.armymwr.com/calendar/event
DTSTART;TZID=America/New_York:20240911T173000
DTEND;TZID=America/New_York:20240911T183000
SEQUENCE:0
END:VEVENT
END:VCALENDAR
