BEGIN:VCALENDAR
VERSION:2.0
PRODID:-//Sabre//Sabre VObject 4.5.8//EN
CALSCALE:GREGORIAN
BEGIN:VEVENT
UID:sabre-vobject-aacf8947-be0c-4233-b979-1aa7fec11552
DTSTAMP:20260425T000513Z
SUMMARY:Flag Football - Youth Sports and Fitness
DESCRIPTION:Flag football is a fast-growing\, inclusive sport that helps yo
 uth of all ages learn the game of football\, stay active\, and develop con
 fidence\, teamwork\, and sportsmanship. The best\, and most important rule
  is there&rsquo\;s no contact allowed. Instead of tackling\, players wear 
 flags that hang by a belt. Once a ball-carriers flag is removed\, play sto
 ps and the ball is marked down. Each week youth will develop and build fun
 damental skills such as running\, receiving\, passing\, and defending. Eac
 h session will end with a scrimmage game.\n\n3-5 years- 5:00 to 5:30pm\n\n
 6-11 years- 5:30 to 6:30pm\n\nFull details can be found in Webtrac.\n
X-ALT-DESC:FMTTYPE=text/html:<!DOCTYPE HTML PUBLIC "-//W3C//DTD HTML 3.2//E
 N"><HTML><p>Flag football is a fast-growing\, inclusive sport that helps y
 outh of all ages learn the game of football\, stay active\, and develop co
 nfidence\, teamwork\, and sportsmanship. The best\, and most important rul
 e is there&rsquo\;s no contact allowed. Instead of tackling\, players wear
  flags that hang by a belt. Once a ball-carriers flag is removed\, play st
 ops and the ball is marked down. Each week youth will develop and build fu
 ndamental skills such as running\, receiving\, passing\, and defending. Ea
 ch session will end with a scrimmage game.</p>\n\n<p>3-5 years- 5:00 to 5:
 30pm</p>\n\n<p>6-11 years- 5:30 to 6:30pm</p>\n\n<p>Full details can be fo
 und in Webtrac.</p>\n</HTML>
CREATED;TZID=America/New_York:20240903T105925
URL;VALUE=URI:https://detroit.armymwr.com/calendar/event
DTSTART;TZID=America/New_York:20240910T000000
DTEND;TZID=America/New_York:20240910T235959
SEQUENCE:0
END:VEVENT
BEGIN:VEVENT
UID:sabre-vobject-e84bdc33-cdbc-40bc-b8aa-ca64fc82394f
DTSTAMP:20260425T000513Z
SUMMARY:Flag Football - Youth Sports and Fitness
DESCRIPTION:Flag football is a fast-growing\, inclusive sport that helps yo
 uth of all ages learn the game of football\, stay active\, and develop con
 fidence\, teamwork\, and sportsmanship. The best\, and most important rule
  is there&rsquo\;s no contact allowed. Instead of tackling\, players wear 
 flags that hang by a belt. Once a ball-carriers flag is removed\, play sto
 ps and the ball is marked down. Each week youth will develop and build fun
 damental skills such as running\, receiving\, passing\, and defending. Eac
 h session will end with a scrimmage game.\n\n3-5 years- 5:00 to 5:30pm\n\n
 6-11 years- 5:30 to 6:30pm\n\nFull details can be found in Webtrac.\n
X-ALT-DESC:FMTTYPE=text/html:<!DOCTYPE HTML PUBLIC "-//W3C//DTD HTML 3.2//E
 N"><HTML><p>Flag football is a fast-growing\, inclusive sport that helps y
 outh of all ages learn the game of football\, stay active\, and develop co
 nfidence\, teamwork\, and sportsmanship. The best\, and most important rul
 e is there&rsquo\;s no contact allowed. Instead of tackling\, players wear
  flags that hang by a belt. Once a ball-carriers flag is removed\, play st
 ops and the ball is marked down. Each week youth will develop and build fu
 ndamental skills such as running\, receiving\, passing\, and defending. Ea
 ch session will end with a scrimmage game.</p>\n\n<p>3-5 years- 5:00 to 5:
 30pm</p>\n\n<p>6-11 years- 5:30 to 6:30pm</p>\n\n<p>Full details can be fo
 und in Webtrac.</p>\n</HTML>
CREATED;TZID=America/New_York:20240903T105925
URL;VALUE=URI:https://detroit.armymwr.com/calendar/event
DTSTART;TZID=America/New_York:20240917T000000
DTEND;TZID=America/New_York:20240917T235959
SEQUENCE:1
END:VEVENT
BEGIN:VEVENT
UID:sabre-vobject-df881745-1e24-40c9-8722-c5135b070e39
DTSTAMP:20260425T000513Z
SUMMARY:Flag Football - Youth Sports and Fitness
DESCRIPTION:Flag football is a fast-growing\, inclusive sport that helps yo
 uth of all ages learn the game of football\, stay active\, and develop con
 fidence\, teamwork\, and sportsmanship. The best\, and most important rule
  is there&rsquo\;s no contact allowed. Instead of tackling\, players wear 
 flags that hang by a belt. Once a ball-carriers flag is removed\, play sto
 ps and the ball is marked down. Each week youth will develop and build fun
 damental skills such as running\, receiving\, passing\, and defending. Eac
 h session will end with a scrimmage game.\n\n3-5 years- 5:00 to 5:30pm\n\n
 6-11 years- 5:30 to 6:30pm\n\nFull details can be found in Webtrac.\n
X-ALT-DESC:FMTTYPE=text/html:<!DOCTYPE HTML PUBLIC "-//W3C//DTD HTML 3.2//E
 N"><HTML><p>Flag football is a fast-growing\, inclusive sport that helps y
 outh of all ages learn the game of football\, stay active\, and develop co
 nfidence\, teamwork\, and sportsmanship. The best\, and most important rul
 e is there&rsquo\;s no contact allowed. Instead of tackling\, players wear
  flags that hang by a belt. Once a ball-carriers flag is removed\, play st
 ops and the ball is marked down. Each week youth will develop and build fu
 ndamental skills such as running\, receiving\, passing\, and defending. Ea
 ch session will end with a scrimmage game.</p>\n\n<p>3-5 years- 5:00 to 5:
 30pm</p>\n\n<p>6-11 years- 5:30 to 6:30pm</p>\n\n<p>Full details can be fo
 und in Webtrac.</p>\n</HTML>
CREATED;TZID=America/New_York:20240903T105925
URL;VALUE=URI:https://detroit.armymwr.com/calendar/event
DTSTART;TZID=America/New_York:20240924T000000
DTEND;TZID=America/New_York:20240924T235959
SEQUENCE:2
END:VEVENT
BEGIN:VEVENT
UID:sabre-vobject-8ca29200-6a5a-4169-9e64-0c24e4dacd49
DTSTAMP:20260425T000513Z
SUMMARY:Flag Football - Youth Sports and Fitness
DESCRIPTION:Flag football is a fast-growing\, inclusive sport that helps yo
 uth of all ages learn the game of football\, stay active\, and develop con
 fidence\, teamwork\, and sportsmanship. The best\, and most important rule
  is there&rsquo\;s no contact allowed. Instead of tackling\, players wear 
 flags that hang by a belt. Once a ball-carriers flag is removed\, play sto
 ps and the ball is marked down. Each week youth will develop and build fun
 damental skills such as running\, receiving\, passing\, and defending. Eac
 h session will end with a scrimmage game.\n\n3-5 years- 5:00 to 5:30pm\n\n
 6-11 years- 5:30 to 6:30pm\n\nFull details can be found in Webtrac.\n
X-ALT-DESC:FMTTYPE=text/html:<!DOCTYPE HTML PUBLIC "-//W3C//DTD HTML 3.2//E
 N"><HTML><p>Flag football is a fast-growing\, inclusive sport that helps y
 outh of all ages learn the game of football\, stay active\, and develop co
 nfidence\, teamwork\, and sportsmanship. The best\, and most important rul
 e is there&rsquo\;s no contact allowed. Instead of tackling\, players wear
  flags that hang by a belt. Once a ball-carriers flag is removed\, play st
 ops and the ball is marked down. Each week youth will develop and build fu
 ndamental skills such as running\, receiving\, passing\, and defending. Ea
 ch session will end with a scrimmage game.</p>\n\n<p>3-5 years- 5:00 to 5:
 30pm</p>\n\n<p>6-11 years- 5:30 to 6:30pm</p>\n\n<p>Full details can be fo
 und in Webtrac.</p>\n</HTML>
CREATED;TZID=America/New_York:20240903T105925
URL;VALUE=URI:https://detroit.armymwr.com/calendar/event
DTSTART;TZID=America/New_York:20241001T000000
DTEND;TZID=America/New_York:20241001T235959
SEQUENCE:3
END:VEVENT
BEGIN:VEVENT
UID:sabre-vobject-5c742125-789c-4c4c-b7d6-a8a33d035595
DTSTAMP:20260425T000513Z
SUMMARY:Flag Football - Youth Sports and Fitness
DESCRIPTION:Flag football is a fast-growing\, inclusive sport that helps yo
 uth of all ages learn the game of football\, stay active\, and develop con
 fidence\, teamwork\, and sportsmanship. The best\, and most important rule
  is there&rsquo\;s no contact allowed. Instead of tackling\, players wear 
 flags that hang by a belt. Once a ball-carriers flag is removed\, play sto
 ps and the ball is marked down. Each week youth will develop and build fun
 damental skills such as running\, receiving\, passing\, and defending. Eac
 h session will end with a scrimmage game.\n\n3-5 years- 5:00 to 5:30pm\n\n
 6-11 years- 5:30 to 6:30pm\n\nFull details can be found in Webtrac.\n
X-ALT-DESC:FMTTYPE=text/html:<!DOCTYPE HTML PUBLIC "-//W3C//DTD HTML 3.2//E
 N"><HTML><p>Flag football is a fast-growing\, inclusive sport that helps y
 outh of all ages learn the game of football\, stay active\, and develop co
 nfidence\, teamwork\, and sportsmanship. The best\, and most important rul
 e is there&rsquo\;s no contact allowed. Instead of tackling\, players wear
  flags that hang by a belt. Once a ball-carriers flag is removed\, play st
 ops and the ball is marked down. Each week youth will develop and build fu
 ndamental skills such as running\, receiving\, passing\, and defending. Ea
 ch session will end with a scrimmage game.</p>\n\n<p>3-5 years- 5:00 to 5:
 30pm</p>\n\n<p>6-11 years- 5:30 to 6:30pm</p>\n\n<p>Full details can be fo
 und in Webtrac.</p>\n</HTML>
CREATED;TZID=America/New_York:20240903T105925
URL;VALUE=URI:https://detroit.armymwr.com/calendar/event
DTSTART;TZID=America/New_York:20241008T000000
DTEND;TZID=America/New_York:20241008T235959
SEQUENCE:4
END:VEVENT
BEGIN:VEVENT
UID:sabre-vobject-409dd119-19e9-45e9-97a4-8d9165179609
DTSTAMP:20260425T000513Z
SUMMARY:Flag Football - Youth Sports and Fitness
DESCRIPTION:Flag football is a fast-growing\, inclusive sport that helps yo
 uth of all ages learn the game of football\, stay active\, and develop con
 fidence\, teamwork\, and sportsmanship. The best\, and most important rule
  is there&rsquo\;s no contact allowed. Instead of tackling\, players wear 
 flags that hang by a belt. Once a ball-carriers flag is removed\, play sto
 ps and the ball is marked down. Each week youth will develop and build fun
 damental skills such as running\, receiving\, passing\, and defending. Eac
 h session will end with a scrimmage game.\n\n3-5 years- 5:00 to 5:30pm\n\n
 6-11 years- 5:30 to 6:30pm\n\nFull details can be found in Webtrac.\n
X-ALT-DESC:FMTTYPE=text/html:<!DOCTYPE HTML PUBLIC "-//W3C//DTD HTML 3.2//E
 N"><HTML><p>Flag football is a fast-growing\, inclusive sport that helps y
 outh of all ages learn the game of football\, stay active\, and develop co
 nfidence\, teamwork\, and sportsmanship. The best\, and most important rul
 e is there&rsquo\;s no contact allowed. Instead of tackling\, players wear
  flags that hang by a belt. Once a ball-carriers flag is removed\, play st
 ops and the ball is marked down. Each week youth will develop and build fu
 ndamental skills such as running\, receiving\, passing\, and defending. Ea
 ch session will end with a scrimmage game.</p>\n\n<p>3-5 years- 5:00 to 5:
 30pm</p>\n\n<p>6-11 years- 5:30 to 6:30pm</p>\n\n<p>Full details can be fo
 und in Webtrac.</p>\n</HTML>
CREATED;TZID=America/New_York:20240903T105925
URL;VALUE=URI:https://detroit.armymwr.com/calendar/event
DTSTART;TZID=America/New_York:20241015T000000
DTEND;TZID=America/New_York:20241015T235959
SEQUENCE:5
END:VEVENT
BEGIN:VEVENT
UID:sabre-vobject-8a5eec5c-fd46-4417-966d-5357d15ab28b
DTSTAMP:20260425T000513Z
SUMMARY:Flag Football - Youth Sports and Fitness
DESCRIPTION:Flag football is a fast-growing\, inclusive sport that helps yo
 uth of all ages learn the game of football\, stay active\, and develop con
 fidence\, teamwork\, and sportsmanship. The best\, and most important rule
  is there&rsquo\;s no contact allowed. Instead of tackling\, players wear 
 flags that hang by a belt. Once a ball-carriers flag is removed\, play sto
 ps and the ball is marked down. Each week youth will develop and build fun
 damental skills such as running\, receiving\, passing\, and defending. Eac
 h session will end with a scrimmage game.\n\n3-5 years- 5:00 to 5:30pm\n\n
 6-11 years- 5:30 to 6:30pm\n\nFull details can be found in Webtrac.\n
X-ALT-DESC:FMTTYPE=text/html:<!DOCTYPE HTML PUBLIC "-//W3C//DTD HTML 3.2//E
 N"><HTML><p>Flag football is a fast-growing\, inclusive sport that helps y
 outh of all ages learn the game of football\, stay active\, and develop co
 nfidence\, teamwork\, and sportsmanship. The best\, and most important rul
 e is there&rsquo\;s no contact allowed. Instead of tackling\, players wear
  flags that hang by a belt. Once a ball-carriers flag is removed\, play st
 ops and the ball is marked down. Each week youth will develop and build fu
 ndamental skills such as running\, receiving\, passing\, and defending. Ea
 ch session will end with a scrimmage game.</p>\n\n<p>3-5 years- 5:00 to 5:
 30pm</p>\n\n<p>6-11 years- 5:30 to 6:30pm</p>\n\n<p>Full details can be fo
 und in Webtrac.</p>\n</HTML>
CREATED;TZID=America/New_York:20240903T105925
URL;VALUE=URI:https://detroit.armymwr.com/calendar/event
DTSTART;TZID=America/New_York:20241022T000000
DTEND;TZID=America/New_York:20241022T235959
SEQUENCE:6
END:VEVENT
END:VCALENDAR
