BEGIN:VCALENDAR
VERSION:2.0
PRODID:-//Sabre//Sabre VObject 4.5.8//EN
CALSCALE:GREGORIAN
BEGIN:VEVENT
UID:sabre-vobject-1d6bde72-0d7d-4698-92ce-2228f961cd1c
DTSTAMP:20260420T163941Z
SUMMARY:Frankenmuth Trip - Middle School & Teen
DESCRIPTION:Full details can be found in Webtrac.\n
X-ALT-DESC:FMTTYPE=text/html:<!DOCTYPE HTML PUBLIC "-//W3C//DTD HTML 3.2//E
 N"><HTML><p>Full details can be found in Webtrac.</p>\n</HTML>
CREATED;TZID=America/New_York:20240903T104208
URL;VALUE=URI:https://detroit.armymwr.com/calendar/event
DTSTART;TZID=America/New_York:20241214T000000
DTEND;TZID=America/New_York:20241214T235959
SEQUENCE:0
END:VEVENT
END:VCALENDAR
