BEGIN:VCALENDAR
VERSION:2.0
PRODID:-//Sabre//Sabre VObject 4.5.8//EN
CALSCALE:GREGORIAN
BEGIN:VEVENT
UID:sabre-vobject-f560c0b0-f7be-4332-8e52-826813cdfd10
DTSTAMP:20260423T160319Z
SUMMARY:Open Rec Night - Middle School & Teen Copy
DESCRIPTION:Grades 6-12&nbsp\;\n\nLimited spaces available. Dinner provided
 .&nbsp\;\n\nHeld at MST program. Come and hang out with your friends or ev
 en meet new ones. Various activities are available all night such as 3D pr
 inting\, arts &amp\; crafts\, board games\, pool\, sports\, video game cha
 llenges and more!\n\nEnrollment opens November 8th\n
X-ALT-DESC:FMTTYPE=text/html:<!DOCTYPE HTML PUBLIC "-//W3C//DTD HTML 3.2//E
 N"><HTML><p>Grades 6-12&nbsp\;</p>\n\n<p>Limited spaces available. Dinner 
 provided.&nbsp\;</p>\n\n<p>Held at MST program. Come and hang out with you
 r friends or even meet new ones. Various activities are available all nigh
 t such as 3D printing\, arts &amp\; crafts\, board games\, pool\, sports\,
  video game challenges and more!</p>\n\n<p>Enrollment opens November 8th</
 p>\n</HTML>
CREATED;TZID=America/New_York:20240903T103342
URL;VALUE=URI:https://detroit.armymwr.com/calendar/event
DTSTART;TZID=America/New_York:20241122T173000
DTEND;TZID=America/New_York:20241122T213000
SEQUENCE:0
END:VEVENT
END:VCALENDAR
