BEGIN:VCALENDAR
VERSION:2.0
PRODID:-//Sabre//Sabre VObject 4.5.8//EN
CALSCALE:GREGORIAN
BEGIN:VEVENT
UID:sabre-vobject-7344b1ec-eb63-4712-a12a-9dc5680cd44d
DTSTAMP:20260424T024101Z
SUMMARY:Open Rec & Esports Night - School Age
DESCRIPTION:Grades K-5\n\nField Trip (full details on field trip on Webtrac
 ). Dinner provided.\n\nEnrollment opens November 1st\n
X-ALT-DESC:FMTTYPE=text/html:<!DOCTYPE HTML PUBLIC "-//W3C//DTD HTML 3.2//E
 N"><HTML><p>Grades K-5</p>\n\n<p>Field Trip (full details on field trip on
  Webtrac). Dinner provided.</p>\n\n<p>Enrollment opens November 1st</p>\n<
 /HTML>
CREATED;TZID=America/New_York:20240903T103053
URL;VALUE=URI:https://detroit.armymwr.com/calendar/event
DTSTART;TZID=America/New_York:20241115T173000
DTEND;TZID=America/New_York:20241115T213000
SEQUENCE:0
END:VEVENT
END:VCALENDAR
