BEGIN:VCALENDAR
VERSION:2.0
PRODID:-//Sabre//Sabre VObject 4.5.8//EN
CALSCALE:GREGORIAN
BEGIN:VEVENT
UID:sabre-vobject-68189921-69c3-4999-99eb-d7c96cc1c413
DTSTAMP:20260419T232441Z
SUMMARY:School Age Winter Break Care
DESCRIPTION:School Out Care - Winter Break\n\nHeld at the DTA CDC\n\nBreakf
 ast\, lunch and afternoon snack provided.\n\nThere will be 2 field trips d
 uring break\, dates and locations are TBD.\n
X-ALT-DESC:FMTTYPE=text/html:<!DOCTYPE HTML PUBLIC "-//W3C//DTD HTML 3.2//E
 N"><HTML><p>School Out Care - Winter Break</p>\n\n<p>Held at the DTA CDC</
 p>\n\n<p>Breakfast\, lunch and afternoon snack provided.</p>\n\n<p>There w
 ill be 2 field trips during break\, dates and locations are TBD.</p>\n</HT
 ML>
CREATED;TZID=America/New_York:20240903T100221
URL;VALUE=URI:https://detroit.armymwr.com/calendar/event
DTSTART;TZID=America/New_York:20241223T061500
DTEND;TZID=America/New_York:20241223T171500
SEQUENCE:0
END:VEVENT
BEGIN:VEVENT
UID:sabre-vobject-35cbf905-c6c4-4c4f-b536-43a2eb15c161
DTSTAMP:20260419T232441Z
SUMMARY:School Age Winter Break Care
DESCRIPTION:School Out Care - Winter Break\n\nHeld at the DTA CDC\n\nBreakf
 ast\, lunch and afternoon snack provided.\n\nThere will be 2 field trips d
 uring break\, dates and locations are TBD.\n
X-ALT-DESC:FMTTYPE=text/html:<!DOCTYPE HTML PUBLIC "-//W3C//DTD HTML 3.2//E
 N"><HTML><p>School Out Care - Winter Break</p>\n\n<p>Held at the DTA CDC</
 p>\n\n<p>Breakfast\, lunch and afternoon snack provided.</p>\n\n<p>There w
 ill be 2 field trips during break\, dates and locations are TBD.</p>\n</HT
 ML>
CREATED;TZID=America/New_York:20240903T100221
URL;VALUE=URI:https://detroit.armymwr.com/calendar/event
DTSTART;TZID=America/New_York:20241224T061500
DTEND;TZID=America/New_York:20241224T171500
SEQUENCE:1
END:VEVENT
BEGIN:VEVENT
UID:sabre-vobject-647b4a66-257f-45d4-92f1-028856631745
DTSTAMP:20260419T232441Z
SUMMARY:School Age Winter Break Care
DESCRIPTION:School Out Care - Winter Break\n\nHeld at the DTA CDC\n\nBreakf
 ast\, lunch and afternoon snack provided.\n\nThere will be 2 field trips d
 uring break\, dates and locations are TBD.\n
X-ALT-DESC:FMTTYPE=text/html:<!DOCTYPE HTML PUBLIC "-//W3C//DTD HTML 3.2//E
 N"><HTML><p>School Out Care - Winter Break</p>\n\n<p>Held at the DTA CDC</
 p>\n\n<p>Breakfast\, lunch and afternoon snack provided.</p>\n\n<p>There w
 ill be 2 field trips during break\, dates and locations are TBD.</p>\n</HT
 ML>
CREATED;TZID=America/New_York:20240903T100221
URL;VALUE=URI:https://detroit.armymwr.com/calendar/event
DTSTART;TZID=America/New_York:20241226T061500
DTEND;TZID=America/New_York:20241226T171500
SEQUENCE:2
END:VEVENT
BEGIN:VEVENT
UID:sabre-vobject-39bdc9a7-0009-4d33-a7da-ce47dbfd36ed
DTSTAMP:20260419T232441Z
SUMMARY:School Age Winter Break Care
DESCRIPTION:School Out Care - Winter Break\n\nHeld at the DTA CDC\n\nBreakf
 ast\, lunch and afternoon snack provided.\n\nThere will be 2 field trips d
 uring break\, dates and locations are TBD.\n
X-ALT-DESC:FMTTYPE=text/html:<!DOCTYPE HTML PUBLIC "-//W3C//DTD HTML 3.2//E
 N"><HTML><p>School Out Care - Winter Break</p>\n\n<p>Held at the DTA CDC</
 p>\n\n<p>Breakfast\, lunch and afternoon snack provided.</p>\n\n<p>There w
 ill be 2 field trips during break\, dates and locations are TBD.</p>\n</HT
 ML>
CREATED;TZID=America/New_York:20240903T100221
URL;VALUE=URI:https://detroit.armymwr.com/calendar/event
DTSTART;TZID=America/New_York:20241227T061500
DTEND;TZID=America/New_York:20241227T171500
SEQUENCE:3
END:VEVENT
BEGIN:VEVENT
UID:sabre-vobject-ccb1cac2-75ec-4693-a388-cf6d5c301272
DTSTAMP:20260419T232441Z
SUMMARY:School Age Winter Break Care
DESCRIPTION:School Out Care - Winter Break\n\nHeld at the DTA CDC\n\nBreakf
 ast\, lunch and afternoon snack provided.\n\nThere will be 2 field trips d
 uring break\, dates and locations are TBD.\n
X-ALT-DESC:FMTTYPE=text/html:<!DOCTYPE HTML PUBLIC "-//W3C//DTD HTML 3.2//E
 N"><HTML><p>School Out Care - Winter Break</p>\n\n<p>Held at the DTA CDC</
 p>\n\n<p>Breakfast\, lunch and afternoon snack provided.</p>\n\n<p>There w
 ill be 2 field trips during break\, dates and locations are TBD.</p>\n</HT
 ML>
CREATED;TZID=America/New_York:20240903T100221
URL;VALUE=URI:https://detroit.armymwr.com/calendar/event
DTSTART;TZID=America/New_York:20241230T061500
DTEND;TZID=America/New_York:20241230T171500
SEQUENCE:4
END:VEVENT
BEGIN:VEVENT
UID:sabre-vobject-bb441a1f-58f1-46b8-9a70-8d0a1a0a8496
DTSTAMP:20260419T232441Z
SUMMARY:School Age Winter Break Care
DESCRIPTION:School Out Care - Winter Break\n\nHeld at the DTA CDC\n\nBreakf
 ast\, lunch and afternoon snack provided.\n\nThere will be 2 field trips d
 uring break\, dates and locations are TBD.\n
X-ALT-DESC:FMTTYPE=text/html:<!DOCTYPE HTML PUBLIC "-//W3C//DTD HTML 3.2//E
 N"><HTML><p>School Out Care - Winter Break</p>\n\n<p>Held at the DTA CDC</
 p>\n\n<p>Breakfast\, lunch and afternoon snack provided.</p>\n\n<p>There w
 ill be 2 field trips during break\, dates and locations are TBD.</p>\n</HT
 ML>
CREATED;TZID=America/New_York:20240903T100221
URL;VALUE=URI:https://detroit.armymwr.com/calendar/event
DTSTART;TZID=America/New_York:20241231T061500
DTEND;TZID=America/New_York:20241231T171500
SEQUENCE:5
END:VEVENT
BEGIN:VEVENT
UID:sabre-vobject-e91f8e16-49c9-427b-a904-f16f3bfd8a6d
DTSTAMP:20260419T232441Z
SUMMARY:School Age Winter Break Care
DESCRIPTION:School Out Care - Winter Break\n\nHeld at the DTA CDC\n\nBreakf
 ast\, lunch and afternoon snack provided.\n\nThere will be 2 field trips d
 uring break\, dates and locations are TBD.\n
X-ALT-DESC:FMTTYPE=text/html:<!DOCTYPE HTML PUBLIC "-//W3C//DTD HTML 3.2//E
 N"><HTML><p>School Out Care - Winter Break</p>\n\n<p>Held at the DTA CDC</
 p>\n\n<p>Breakfast\, lunch and afternoon snack provided.</p>\n\n<p>There w
 ill be 2 field trips during break\, dates and locations are TBD.</p>\n</HT
 ML>
CREATED;TZID=America/New_York:20240903T100221
URL;VALUE=URI:https://detroit.armymwr.com/calendar/event
DTSTART;TZID=America/New_York:20250102T061500
DTEND;TZID=America/New_York:20250102T171500
SEQUENCE:6
END:VEVENT
BEGIN:VEVENT
UID:sabre-vobject-2a2be95b-0c45-466b-a4ff-8c9d74df5f92
DTSTAMP:20260419T232441Z
SUMMARY:School Age Winter Break Care
DESCRIPTION:School Out Care - Winter Break\n\nHeld at the DTA CDC\n\nBreakf
 ast\, lunch and afternoon snack provided.\n\nThere will be 2 field trips d
 uring break\, dates and locations are TBD.\n
X-ALT-DESC:FMTTYPE=text/html:<!DOCTYPE HTML PUBLIC "-//W3C//DTD HTML 3.2//E
 N"><HTML><p>School Out Care - Winter Break</p>\n\n<p>Held at the DTA CDC</
 p>\n\n<p>Breakfast\, lunch and afternoon snack provided.</p>\n\n<p>There w
 ill be 2 field trips during break\, dates and locations are TBD.</p>\n</HT
 ML>
CREATED;TZID=America/New_York:20240903T100221
URL;VALUE=URI:https://detroit.armymwr.com/calendar/event
DTSTART;TZID=America/New_York:20250103T061500
DTEND;TZID=America/New_York:20250103T171500
SEQUENCE:7
END:VEVENT
END:VCALENDAR
