BEGIN:VCALENDAR
VERSION:2.0
PRODID:-//Sabre//Sabre VObject 4.5.8//EN
CALSCALE:GREGORIAN
BEGIN:VEVENT
UID:sabre-vobject-ec02333a-717d-4ef5-a915-f59f69d18967
DTSTAMP:20260425T040055Z
SUMMARY:School Out Day: Grades K-5 Care
DESCRIPTION:School Out Care - Limited spaces available&nbsp\;\n\nHeld at th
 e DTA CDC\n\nBreakfast\, lunch and afternoon snack provided.\n\n&nbsp\;\n
X-ALT-DESC:FMTTYPE=text/html:<!DOCTYPE HTML PUBLIC "-//W3C//DTD HTML 3.2//E
 N"><HTML><p>School Out Care - Limited spaces available&nbsp\;</p>\n\n<p>He
 ld at the DTA CDC</p>\n\n<p>Breakfast\, lunch and afternoon snack provided
 .</p>\n\n<p>&nbsp\;</p>\n</HTML>
CREATED;TZID=America/New_York:20240903T095542
URL;VALUE=URI:https://detroit.armymwr.com/calendar/event
DTSTART;TZID=America/New_York:20241105T061500
DTEND;TZID=America/New_York:20241105T171500
SEQUENCE:0
END:VEVENT
END:VCALENDAR
